BEGIN:VCALENDAR
VERSION:2.0
PRODID:-//PhotoMilano - ECPv6.15.20//NONSGML v1.0//EN
CALSCALE:GREGORIAN
METHOD:PUBLISH
X-WR-CALNAME:PhotoMilano
X-ORIGINAL-URL:https://photomilano.org
X-WR-CALDESC:Eventi per PhotoMilano
REFRESH-INTERVAL;VALUE=DURATION:PT1H
X-Robots-Tag:noindex
X-PUBLISHED-TTL:PT1H
BEGIN:VTIMEZONE
TZID:Europe/Rome
BEGIN:DAYLIGHT
TZOFFSETFROM:+0100
TZOFFSETTO:+0200
TZNAME:CEST
DTSTART:20180325T010000
END:DAYLIGHT
BEGIN:STANDARD
TZOFFSETFROM:+0200
TZOFFSETTO:+0100
TZNAME:CET
DTSTART:20181028T010000
END:STANDARD
BEGIN:DAYLIGHT
TZOFFSETFROM:+0100
TZOFFSETTO:+0200
TZNAME:CEST
DTSTART:20190331T010000
END:DAYLIGHT
BEGIN:STANDARD
TZOFFSETFROM:+0200
TZOFFSETTO:+0100
TZNAME:CET
DTSTART:20191027T010000
END:STANDARD
BEGIN:DAYLIGHT
TZOFFSETFROM:+0100
TZOFFSETTO:+0200
TZNAME:CEST
DTSTART:20200329T010000
END:DAYLIGHT
BEGIN:STANDARD
TZOFFSETFROM:+0200
TZOFFSETTO:+0100
TZNAME:CET
DTSTART:20201025T010000
END:STANDARD
END:VTIMEZONE
BEGIN:VEVENT
DTSTART;TZID=Europe/Rome:20190317T160000
DTEND;TZID=Europe/Rome:20190317T183000
DTSTAMP:20260425T164757
CREATED:20190311T113500Z
LAST-MODIFIED:20190311T113521Z
UID:27763-1552838400-1552847400@photomilano.org
SUMMARY:La pelle della bellezza\, film documentario
DESCRIPTION:Ferdinando Scianna\, Tano D’Amico\, Roberto Strano con Piero Sabatino (il regista del film) – “La pelle della bellezza\, viaggio attraverso la fotografia dell’essere” – a PhotoMilano / Spazio Tadini domenica 17 marzo alle ore 16 (consiglio molto PRENOTAZIONE a commento\, qui 😉 – avranno la PRECEDENZA i possessori della tessera / abbonamento annuale a Spazio Tadini) . Ingresso gratuito. Via Jommelli 24\, Milano.
URL:https://photomilano.org/event/la-pelle-della-bellezza-film-documentario/
LOCATION:PhotoMilano Spazio Tadini\, via Jommelli 24\, Milano\, 20131\, Italia
CATEGORIES:incontri PhotoMilano
ATTACH;FMTTYPE=image/jpeg:https://photomilano.org/wp-content/uploads/2019/03/Banner-facebook-_la-pelle-della-bellezza_.jpg
END:VEVENT
END:VCALENDAR